BEGIN:VCALENDAR
METHOD:PUBLISH
PRODID:-//github.com/rianjs/ical.net//NONSGML ical.net 4.0//EN
VERSION:2.0
X-WR-CALNAME:Redmond Elementary PTSA
BEGIN:VEVENT
CREATED:20260217T150412
DESCRIPTION:Contact\ncommunity@redmondelptsa.org
DTEND:20260410T030000Z
DTSTAMP:20260422T084617Z
DTSTART:20260410T013000Z
LAST-MODIFIED:20260319T080107
LOCATION:School gym
SEQUENCE:0
STATUS:CONFIRMED
SUMMARY:Science Fair
TRANSP:TRANSPARENT
UID:145293@ourschoolpages.com
END:VEVENT
END:VCALENDAR
